BEGIN:VCALENDAR
VERSION:2.0
PRODID:-//SFC BULLS EYE 2011 - ECPv4.5.8//NONSGML v1.0//EN
CALSCALE:GREGORIAN
METHOD:PUBLISH
X-WR-CALNAME:SFC BULLS EYE 2011
X-ORIGINAL-URL:http://www.sfcbullseye.at
X-WR-CALDESC:Events for SFC BULLS EYE 2011
BEGIN:VEVENT
DTSTART;VALUE=DATE:20200516
DTEND;VALUE=DATE:20200516
DTSTAMP:20260419T182422
CREATED:20200219T102717Z
LAST-MODIFIED:20200219T102717Z
UID:957-1589587200-1589673599@www.sfcbullseye.at
SUMMARY:SFC Dartturnier 2020
DESCRIPTION:Bulls Eye Club Pernegg \n  \nInfos und Anmeldungen: \n>> Auf der Kontaktseite dieser Website << \n
URL:http://www.sfcbullseye.at/termin/sfc-dartturnier-2020/
END:VEVENT
END:VCALENDAR