BEGIN:VCALENDAR
VERSION:2.0
PRODID:-//SFC BULLS EYE 2011 - ECPv4.5.8//NONSGML v1.0//EN
CALSCALE:GREGORIAN
METHOD:PUBLISH
X-WR-CALNAME:SFC BULLS EYE 2011
X-ORIGINAL-URL:http://www.sfcbullseye.at
X-WR-CALDESC:Events for SFC BULLS EYE 2011
BEGIN:VEVENT
DTSTART;TZID=Europe/Vienna:20170520T180000
DTEND;TZID=Europe/Vienna:20170520T180000
DTSTAMP:20260423T014212
CREATED:20170121T171737Z
LAST-MODIFIED:20170121T171737Z
UID:528-1495303200-1495303200@www.sfcbullseye.at
SUMMARY:SFC CLUBABEND
DESCRIPTION:SFC CLUBABEND \nMotto „unknown“ ! \n20.05.2017 \n18 UHR ! \n
URL:http://www.sfcbullseye.at/termin/sfc-clubabend/
END:VEVENT
END:VCALENDAR