BEGIN:VCALENDAR
VERSION:2.0
PRODID:-//SFC BULLS EYE 2011 - ECPv4.5.8//NONSGML v1.0//EN
CALSCALE:GREGORIAN
METHOD:PUBLISH
X-WR-CALNAME:SFC BULLS EYE 2011
X-ORIGINAL-URL:http://www.sfcbullseye.at
X-WR-CALDESC:Events for SFC BULLS EYE 2011
BEGIN:VEVENT
DTSTART;TZID=Europe/Vienna:20151218T160000
DTEND;TZID=Europe/Vienna:20151218T220000
DTSTAMP:20260423T050843
CREATED:20151207T121526Z
LAST-MODIFIED:20151207T121526Z
UID:190-1450454400-1450476000@www.sfcbullseye.at
SUMMARY:SFC Adventstandl vor Gemeindeamt
DESCRIPTION:Am 18. Dezember bieten wir vor dem Gemeindeamt in Pernegg an der Mur von 16-22 Uhr Glühwein Punsch und Kekse an. \nSchau vorbei 😉 ! Wir würden uns sehr freuen ! \n
URL:http://www.sfcbullseye.at/termin/sfc-adventstandl-vor-gemeindeamt/
END:VEVENT
END:VCALENDAR