BEGIN:VCALENDAR
VERSION:2.0
PRODID:-//SFC BULLS EYE 2011 - ECPv4.5.8//NONSGML v1.0//EN
CALSCALE:GREGORIAN
METHOD:PUBLISH
X-WR-CALNAME:SFC BULLS EYE 2011
X-ORIGINAL-URL:http://www.sfcbullseye.at
X-WR-CALDESC:Events for SFC BULLS EYE 2011
BEGIN:VEVENT
DTSTART;TZID=Europe/Vienna:20170708T140000
DTEND;TZID=Europe/Vienna:20170708T140000
DTSTAMP:20260423T020009
CREATED:20170121T172145Z
LAST-MODIFIED:20170121T172145Z
UID:532-1499522400-1499522400@www.sfcbullseye.at
SUMMARY:MITWIRKEN BEIM PERNEGGER DORFFEST IN MAUTSTATT
DESCRIPTION:08.07.2017 – PERNEGGER DORFFEST \nDas Gemeinde-Highlight welches alle 2 Jahre stattfindet. \nDieses Jahr in Maustatt vorm Gasthaus GOSCH und mit kräftiger Beteiligung des SFC BULLS EYE 2011 ! \nWir freuen uns auf euren Besuch ! \n
URL:http://www.sfcbullseye.at/termin/mitwirken-beim-pernegger-dorffest-in-mautstatt/
END:VEVENT
END:VCALENDAR