BEGIN:VCALENDAR
VERSION:2.0
PRODID:-//SFC BULLS EYE 2011 - ECPv4.5.8//NONSGML v1.0//EN
CALSCALE:GREGORIAN
METHOD:PUBLISH
X-WR-CALNAME:SFC BULLS EYE 2011
X-ORIGINAL-URL:http://www.sfcbullseye.at
X-WR-CALDESC:Events for SFC BULLS EYE 2011
BEGIN:VEVENT
DTSTART;TZID=Europe/Vienna:20160903T100000
DTEND;TZID=Europe/Vienna:20160903T235500
DTSTAMP:20260423T032311
CREATED:20160110T155757Z
LAST-MODIFIED:20160809T174447Z
UID:295-1472896800-1472946900@www.sfcbullseye.at
SUMMARY:FÜNFTES FLUNKYBALLTURNIER des SFC BULLS EYE
DESCRIPTION:TIME FOR FLUUUUUUNKY !!!!\n\nam 03.September 2016\nBeginn: 10 Uhr\n<hinterm Bulls Eye Clublokal – Zufahrt Groggerweg – nach Blumenladen links !>\n3er TEAMS ! \nAnmeldungen und Infos an : flunky@sfcbullseye.at oder 0664/75031465 \noder DIREKT im CLUBLOKAL ! \nAnmeldeschluss ist der 02. September (limitierte Teilnehmeranzahl !) \nEs erwarten euch wieder Top-Preise bei unserer Sofortpreisverlosung\, sowie tolle Preise für die teilnehmenden Mannschaften. \n \n
URL:http://www.sfcbullseye.at/termin/fuenftes-flunkyballturnier-des-sfc-pernegg/
LOCATION:Allee 8\, Pernegg an der Mur\, Steiermark\, 8132\, Österreich
END:VEVENT
END:VCALENDAR