BEGIN:VCALENDAR
VERSION:2.0
PRODID:-//SFC BULLS EYE 2011 - ECPv4.5.8//NONSGML v1.0//EN
CALSCALE:GREGORIAN
METHOD:PUBLISH
X-WR-CALNAME:SFC BULLS EYE 2011
X-ORIGINAL-URL:http://www.sfcbullseye.at
X-WR-CALDESC:Events for SFC BULLS EYE 2011
BEGIN:VEVENT
DTSTART;VALUE=DATE:20160409
DTEND;VALUE=DATE:20160409
DTSTAMP:20260423T050950
CREATED:20160110T160115Z
LAST-MODIFIED:20160110T160506Z
UID:296-1460160000-1460246399@www.sfcbullseye.at
SUMMARY:DARTTURNIER des SFC
DESCRIPTION:Wer schießt sich mit hochwertigen Würfen bis ins Finale ! \nFaires Turniersystem wie bereits in den Jahren davor. \nAnmeldungen und Infos an : office@sfcbullseye.at \noder direkt im Clublokal \n  \nAnmeldeschluss ist der 08.04.2016 ! \n
URL:http://www.sfcbullseye.at/termin/dartturnier-des-sfc/
LOCATION:Allee 8\, Pernegg an der Mur\, Steiermark\, 8132\, Österreich
END:VEVENT
END:VCALENDAR