BEGIN:VCALENDAR
VERSION:2.0
PRODID:-//SFC BULLS EYE 2011 - ECPv4.5.8//NONSGML v1.0//EN
CALSCALE:GREGORIAN
METHOD:PUBLISH
X-WR-CALNAME:SFC BULLS EYE 2011
X-ORIGINAL-URL:http://www.sfcbullseye.at
X-WR-CALDESC:Events for SFC BULLS EYE 2011
BEGIN:VEVENT
DTSTART;TZID=Europe/Vienna:20160220T180000
DTEND;TZID=Europe/Vienna:20160221T060000
DTSTAMP:20260423T034027
CREATED:20160110T155123Z
LAST-MODIFIED:20160110T155123Z
UID:293-1455991200-1456034400@www.sfcbullseye.at
SUMMARY:"Bluebeer Birthday Evening" des SFC
DESCRIPTION:Die Nacht des blauen Steirerbiers also … ? JA ! Und das lässt viele Spekulationen offen. \nWir haben Einige Überraschungen für euch. Zeitgleich feiern wir Geburtstag von unseren im Februar Geborenen. \n20. FEBRUAR ab 18:00 Uhr im Bulls Eye Club \n
URL:http://www.sfcbullseye.at/termin/bluebeer-birthday-evening-des-sfc/
LOCATION:Allee 8\, Pernegg an der Mur\, Steiermark\, 8132\, Österreich
END:VEVENT
END:VCALENDAR