BEGIN:VCALENDAR
VERSION:2.0
PRODID:-//SFC BULLS EYE 2011 - ECPv4.5.8//NONSGML v1.0//EN
CALSCALE:GREGORIAN
METHOD:PUBLISH
X-WR-CALNAME:SFC BULLS EYE 2011
X-ORIGINAL-URL:http://www.sfcbullseye.at
X-WR-CALDESC:Events for SFC BULLS EYE 2011
BEGIN:VEVENT
DTSTART;TZID=Europe/Vienna:20151219T170000
DTEND;TZID=Europe/Vienna:20151219T170000
DTSTAMP:20260423T032645
CREATED:20151110T222620Z
LAST-MODIFIED:20151207T121346Z
UID:14-1450544400-1450544400@www.sfcbullseye.at
SUMMARY:Adventabend
DESCRIPTION:Am 19. Dezember findet unser 2. Adventabend im Bulls Eye Club statt. Bereits ab 17:00 Uhr erwarten euch vorweihnachtlicher Flair\, Glühwein\, Punsch und Kekse. Im Vorjahr unterhielten uns musikalisch „Gerhard & Andi“ ! Abwarten was dieses Jahr sonst noch am Programm steht 😉 \n
URL:http://www.sfcbullseye.at/termin/adventabend/
LOCATION:Allee 8\, Pernegg an der Mur\, Steiermark\, 8132\, Österreich
END:VEVENT
END:VCALENDAR