BEGIN:VCALENDAR
VERSION:2.0
PRODID:-//SFC BULLS EYE 2011 - ECPv4.5.8//NONSGML v1.0//EN
CALSCALE:GREGORIAN
METHOD:PUBLISH
X-WR-CALNAME:SFC BULLS EYE 2011
X-ORIGINAL-URL:http://www.sfcbullseye.at
X-WR-CALDESC:Events for SFC BULLS EYE 2011
BEGIN:VEVENT
DTSTART;VALUE=DATE:20160723
DTEND;VALUE=DATE:20160724
DTSTAMP:20260423T031527
CREATED:20160110T155407Z
LAST-MODIFIED:20160606T155134Z
UID:294-1469232000-1469404799@www.sfcbullseye.at
SUMMARY:SOMMERFEST ~* 5 JAHRE SFC BULLS EYE *~
DESCRIPTION:23. Juli 2016    Beginn 14 Uhr     Bulls Eye Club___PERNEGG/MUR\n\n„5-Jahre SFC“ – SOMMERFEST\n\n\nfür musikalische Unterhaltung sorgt die Maunta Musi aus Gasen und das Trio Blind Session !\nVersteigerung von Trikots mit Unterschriften aus der Österreichischen Bundesliga !\nFür das leibliche Wohl ist Bestens gesorgt !\n  \nKein Eintritt !\nVeranstaltung findet bei jeder Witterung statt (Zelt!) \n \n
URL:http://www.sfcbullseye.at/termin/5-jahre-sfc-bulls-eye/
END:VEVENT
END:VCALENDAR